BEGIN:VCALENDAR
VERSION:2.0
PRODID:-//Cabarrus Partnership - ECPv6.15.13.1//NONSGML v1.0//EN
CALSCALE:GREGORIAN
METHOD:PUBLISH
X-WR-CALNAME:Cabarrus Partnership
X-ORIGINAL-URL:https://cabarruspartnership.org
X-WR-CALDESC:Events for Cabarrus Partnership
REFRESH-INTERVAL;VALUE=DURATION:PT1H
X-Robots-Tag:noindex
X-PUBLISHED-TTL:PT1H
BEGIN:VTIMEZONE
TZID:America/New_York
BEGIN:DAYLIGHT
TZOFFSETFROM:-0500
TZOFFSETTO:-0400
TZNAME:EDT
DTSTART:20250309T070000
END:DAYLIGHT
BEGIN:STANDARD
TZOFFSETFROM:-0400
TZOFFSETTO:-0500
TZNAME:EST
DTSTART:20251102T060000
END:STANDARD
BEGIN:DAYLIGHT
TZOFFSETFROM:-0500
TZOFFSETTO:-0400
TZNAME:EDT
DTSTART:20260308T070000
END:DAYLIGHT
BEGIN:STANDARD
TZOFFSETFROM:-0400
TZOFFSETTO:-0500
TZNAME:EST
DTSTART:20261101T060000
END:STANDARD
BEGIN:DAYLIGHT
TZOFFSETFROM:-0500
TZOFFSETTO:-0400
TZNAME:EDT
DTSTART:20270314T070000
END:DAYLIGHT
BEGIN:STANDARD
TZOFFSETFROM:-0400
TZOFFSETTO:-0500
TZNAME:EST
DTSTART:20271107T060000
END:STANDARD
END:VTIMEZONE
BEGIN:VEVENT
DTSTART;TZID=America/New_York:20260420T100000
DTEND;TZID=America/New_York:20260420T140000
DTSTAMP:20260420T044230
CREATED:20251020T183402Z
LAST-MODIFIED:20251119T190306Z
UID:10000028-1776679200-1776693600@cabarruspartnership.org
SUMMARY:Child Seat Safety Check
DESCRIPTION:Come down to Fire Station #3 in Concord and we will check your car seat to make sure it is installed correctly. This is a weekly event available every Monday from 10 AM – 2 PM EST – excluding holidays.
URL:https://cabarruspartnership.org/event/child-seat-safety-check/2026-04-20/
LOCATION:Concod Fire tation #3\, 100 Warren C Coleman Blvd\, Concord\, NC\, 28027\, United States
ATTACH;FMTTYPE=image/jpeg:https://cabarruspartnership.org/wp-content/uploads/2025/10/child-seat-safety-check.jpg
END:VEVENT
BEGIN:VEVENT
DTSTART;TZID=America/New_York:20260427T100000
DTEND;TZID=America/New_York:20260427T140000
DTSTAMP:20260420T044230
CREATED:20251020T183402Z
LAST-MODIFIED:20251119T190306Z
UID:10000029-1777284000-1777298400@cabarruspartnership.org
SUMMARY:Child Seat Safety Check
DESCRIPTION:Come down to Fire Station #3 in Concord and we will check your car seat to make sure it is installed correctly. This is a weekly event available every Monday from 10 AM – 2 PM EST – excluding holidays.
URL:https://cabarruspartnership.org/event/child-seat-safety-check/2026-04-27/
LOCATION:Concod Fire tation #3\, 100 Warren C Coleman Blvd\, Concord\, NC\, 28027\, United States
ATTACH;FMTTYPE=image/jpeg:https://cabarruspartnership.org/wp-content/uploads/2025/10/child-seat-safety-check.jpg
END:VEVENT
BEGIN:VEVENT
DTSTART;TZID=America/New_York:20260504T100000
DTEND;TZID=America/New_York:20260504T140000
DTSTAMP:20260420T044230
CREATED:20251020T183402Z
LAST-MODIFIED:20251119T190306Z
UID:10000030-1777888800-1777903200@cabarruspartnership.org
SUMMARY:Child Seat Safety Check
DESCRIPTION:Come down to Fire Station #3 in Concord and we will check your car seat to make sure it is installed correctly. This is a weekly event available every Monday from 10 AM – 2 PM EST – excluding holidays.
URL:https://cabarruspartnership.org/event/child-seat-safety-check/2026-05-04/
LOCATION:Concod Fire tation #3\, 100 Warren C Coleman Blvd\, Concord\, NC\, 28027\, United States
ATTACH;FMTTYPE=image/jpeg:https://cabarruspartnership.org/wp-content/uploads/2025/10/child-seat-safety-check.jpg
END:VEVENT
BEGIN:VEVENT
DTSTART;TZID=America/New_York:20260506T100000
DTEND;TZID=America/New_York:20260506T130000
DTSTAMP:20260420T044230
CREATED:20251020T184340Z
LAST-MODIFIED:20251119T190446Z
UID:10000330-1778061600-1778072400@cabarruspartnership.org
SUMMARY:Child Seat Safety Check
DESCRIPTION:Come down behind the Cabarrus County Sheriff’s Office in Concord (Use the Corban Ave SE driveway Across from McCachern Blvd SE)\, and we will check your car seat to ensure it is installed correctly. This event is available every first Wednesday from 10 AM – 1 PM EST – excluding holidays. \nYou must bring the following : \n\nValid Driver’s License or State Issued ID\nCitation You Were Issued\nAppropriate Safety Seat and Involved Child\nVehicle with Current Registration\n\nIn order to qualify for the child passenger seat diversion program your vehicle and child passenger seat must be checked at one of the locations above at least one week prior to your court date. No Exceptions. \nFor information on selecting the right seat for your child visit buckleupnc.org
URL:https://cabarruspartnership.org/event/child-seat-safety-check-2/2026-05-06/
LOCATION:Behind the Cabarrus County Sheriff’s Office\, 30 Corban Ave SE\, Concord\, NC\, 28025\, United States
ATTACH;FMTTYPE=image/jpeg:https://cabarruspartnership.org/wp-content/uploads/2025/10/child-seat-safety-check2.jpg
END:VEVENT
BEGIN:VEVENT
DTSTART;TZID=America/New_York:20260511T100000
DTEND;TZID=America/New_York:20260511T140000
DTSTAMP:20260420T044230
CREATED:20251020T183402Z
LAST-MODIFIED:20251119T190306Z
UID:10000031-1778493600-1778508000@cabarruspartnership.org
SUMMARY:Child Seat Safety Check
DESCRIPTION:Come down to Fire Station #3 in Concord and we will check your car seat to make sure it is installed correctly. This is a weekly event available every Monday from 10 AM – 2 PM EST – excluding holidays.
URL:https://cabarruspartnership.org/event/child-seat-safety-check/2026-05-11/
LOCATION:Concod Fire tation #3\, 100 Warren C Coleman Blvd\, Concord\, NC\, 28027\, United States
ATTACH;FMTTYPE=image/jpeg:https://cabarruspartnership.org/wp-content/uploads/2025/10/child-seat-safety-check.jpg
END:VEVENT
BEGIN:VEVENT
DTSTART;TZID=America/New_York:20260518T100000
DTEND;TZID=America/New_York:20260518T140000
DTSTAMP:20260420T044230
CREATED:20251020T183402Z
LAST-MODIFIED:20251119T190306Z
UID:10000032-1779098400-1779112800@cabarruspartnership.org
SUMMARY:Child Seat Safety Check
DESCRIPTION:Come down to Fire Station #3 in Concord and we will check your car seat to make sure it is installed correctly. This is a weekly event available every Monday from 10 AM – 2 PM EST – excluding holidays.
URL:https://cabarruspartnership.org/event/child-seat-safety-check/2026-05-18/
LOCATION:Concod Fire tation #3\, 100 Warren C Coleman Blvd\, Concord\, NC\, 28027\, United States
ATTACH;FMTTYPE=image/jpeg:https://cabarruspartnership.org/wp-content/uploads/2025/10/child-seat-safety-check.jpg
END:VEVENT
BEGIN:VEVENT
DTSTART;TZID=America/New_York:20260525T100000
DTEND;TZID=America/New_York:20260525T140000
DTSTAMP:20260420T044230
CREATED:20251020T183402Z
LAST-MODIFIED:20251119T190306Z
UID:10000033-1779703200-1779717600@cabarruspartnership.org
SUMMARY:Child Seat Safety Check
DESCRIPTION:Come down to Fire Station #3 in Concord and we will check your car seat to make sure it is installed correctly. This is a weekly event available every Monday from 10 AM – 2 PM EST – excluding holidays.
URL:https://cabarruspartnership.org/event/child-seat-safety-check/2026-05-25/
LOCATION:Concod Fire tation #3\, 100 Warren C Coleman Blvd\, Concord\, NC\, 28027\, United States
ATTACH;FMTTYPE=image/jpeg:https://cabarruspartnership.org/wp-content/uploads/2025/10/child-seat-safety-check.jpg
END:VEVENT
BEGIN:VEVENT
DTSTART;TZID=America/New_York:20260601T100000
DTEND;TZID=America/New_York:20260601T140000
DTSTAMP:20260420T044230
CREATED:20251020T183402Z
LAST-MODIFIED:20251119T190306Z
UID:10000034-1780308000-1780322400@cabarruspartnership.org
SUMMARY:Child Seat Safety Check
DESCRIPTION:Come down to Fire Station #3 in Concord and we will check your car seat to make sure it is installed correctly. This is a weekly event available every Monday from 10 AM – 2 PM EST – excluding holidays.
URL:https://cabarruspartnership.org/event/child-seat-safety-check/2026-06-01/
LOCATION:Concod Fire tation #3\, 100 Warren C Coleman Blvd\, Concord\, NC\, 28027\, United States
ATTACH;FMTTYPE=image/jpeg:https://cabarruspartnership.org/wp-content/uploads/2025/10/child-seat-safety-check.jpg
END:VEVENT
BEGIN:VEVENT
DTSTART;TZID=America/New_York:20260603T100000
DTEND;TZID=America/New_York:20260603T130000
DTSTAMP:20260420T044230
CREATED:20251020T184340Z
LAST-MODIFIED:20251119T190446Z
UID:10000331-1780480800-1780491600@cabarruspartnership.org
SUMMARY:Child Seat Safety Check
DESCRIPTION:Come down behind the Cabarrus County Sheriff’s Office in Concord (Use the Corban Ave SE driveway Across from McCachern Blvd SE)\, and we will check your car seat to ensure it is installed correctly. This event is available every first Wednesday from 10 AM – 1 PM EST – excluding holidays. \nYou must bring the following : \n\nValid Driver’s License or State Issued ID\nCitation You Were Issued\nAppropriate Safety Seat and Involved Child\nVehicle with Current Registration\n\nIn order to qualify for the child passenger seat diversion program your vehicle and child passenger seat must be checked at one of the locations above at least one week prior to your court date. No Exceptions. \nFor information on selecting the right seat for your child visit buckleupnc.org
URL:https://cabarruspartnership.org/event/child-seat-safety-check-2/2026-06-03/
LOCATION:Behind the Cabarrus County Sheriff’s Office\, 30 Corban Ave SE\, Concord\, NC\, 28025\, United States
ATTACH;FMTTYPE=image/jpeg:https://cabarruspartnership.org/wp-content/uploads/2025/10/child-seat-safety-check2.jpg
END:VEVENT
BEGIN:VEVENT
DTSTART;TZID=America/New_York:20260608T100000
DTEND;TZID=America/New_York:20260608T140000
DTSTAMP:20260420T044230
CREATED:20251020T183402Z
LAST-MODIFIED:20251119T190306Z
UID:10000035-1780912800-1780927200@cabarruspartnership.org
SUMMARY:Child Seat Safety Check
DESCRIPTION:Come down to Fire Station #3 in Concord and we will check your car seat to make sure it is installed correctly. This is a weekly event available every Monday from 10 AM – 2 PM EST – excluding holidays.
URL:https://cabarruspartnership.org/event/child-seat-safety-check/2026-06-08/
LOCATION:Concod Fire tation #3\, 100 Warren C Coleman Blvd\, Concord\, NC\, 28027\, United States
ATTACH;FMTTYPE=image/jpeg:https://cabarruspartnership.org/wp-content/uploads/2025/10/child-seat-safety-check.jpg
END:VEVENT
BEGIN:VEVENT
DTSTART;TZID=America/New_York:20260615T100000
DTEND;TZID=America/New_York:20260615T140000
DTSTAMP:20260420T044230
CREATED:20251020T183402Z
LAST-MODIFIED:20251119T190306Z
UID:10000036-1781517600-1781532000@cabarruspartnership.org
SUMMARY:Child Seat Safety Check
DESCRIPTION:Come down to Fire Station #3 in Concord and we will check your car seat to make sure it is installed correctly. This is a weekly event available every Monday from 10 AM – 2 PM EST – excluding holidays.
URL:https://cabarruspartnership.org/event/child-seat-safety-check/2026-06-15/
LOCATION:Concod Fire tation #3\, 100 Warren C Coleman Blvd\, Concord\, NC\, 28027\, United States
ATTACH;FMTTYPE=image/jpeg:https://cabarruspartnership.org/wp-content/uploads/2025/10/child-seat-safety-check.jpg
END:VEVENT
BEGIN:VEVENT
DTSTART;TZID=America/New_York:20260622T100000
DTEND;TZID=America/New_York:20260622T140000
DTSTAMP:20260420T044230
CREATED:20251020T183402Z
LAST-MODIFIED:20251119T190306Z
UID:10000037-1782122400-1782136800@cabarruspartnership.org
SUMMARY:Child Seat Safety Check
DESCRIPTION:Come down to Fire Station #3 in Concord and we will check your car seat to make sure it is installed correctly. This is a weekly event available every Monday from 10 AM – 2 PM EST – excluding holidays.
URL:https://cabarruspartnership.org/event/child-seat-safety-check/2026-06-22/
LOCATION:Concod Fire tation #3\, 100 Warren C Coleman Blvd\, Concord\, NC\, 28027\, United States
ATTACH;FMTTYPE=image/jpeg:https://cabarruspartnership.org/wp-content/uploads/2025/10/child-seat-safety-check.jpg
END:VEVENT
BEGIN:VEVENT
DTSTART;TZID=America/New_York:20260629T100000
DTEND;TZID=America/New_York:20260629T140000
DTSTAMP:20260420T044230
CREATED:20251020T183402Z
LAST-MODIFIED:20251119T190306Z
UID:10000038-1782727200-1782741600@cabarruspartnership.org
SUMMARY:Child Seat Safety Check
DESCRIPTION:Come down to Fire Station #3 in Concord and we will check your car seat to make sure it is installed correctly. This is a weekly event available every Monday from 10 AM – 2 PM EST – excluding holidays.
URL:https://cabarruspartnership.org/event/child-seat-safety-check/2026-06-29/
LOCATION:Concod Fire tation #3\, 100 Warren C Coleman Blvd\, Concord\, NC\, 28027\, United States
ATTACH;FMTTYPE=image/jpeg:https://cabarruspartnership.org/wp-content/uploads/2025/10/child-seat-safety-check.jpg
END:VEVENT
BEGIN:VEVENT
DTSTART;TZID=America/New_York:20260701T100000
DTEND;TZID=America/New_York:20260701T130000
DTSTAMP:20260420T044230
CREATED:20251020T184340Z
LAST-MODIFIED:20251119T190446Z
UID:10000332-1782900000-1782910800@cabarruspartnership.org
SUMMARY:Child Seat Safety Check
DESCRIPTION:Come down behind the Cabarrus County Sheriff’s Office in Concord (Use the Corban Ave SE driveway Across from McCachern Blvd SE)\, and we will check your car seat to ensure it is installed correctly. This event is available every first Wednesday from 10 AM – 1 PM EST – excluding holidays. \nYou must bring the following : \n\nValid Driver’s License or State Issued ID\nCitation You Were Issued\nAppropriate Safety Seat and Involved Child\nVehicle with Current Registration\n\nIn order to qualify for the child passenger seat diversion program your vehicle and child passenger seat must be checked at one of the locations above at least one week prior to your court date. No Exceptions. \nFor information on selecting the right seat for your child visit buckleupnc.org
URL:https://cabarruspartnership.org/event/child-seat-safety-check-2/2026-07-01/
LOCATION:Behind the Cabarrus County Sheriff’s Office\, 30 Corban Ave SE\, Concord\, NC\, 28025\, United States
ATTACH;FMTTYPE=image/jpeg:https://cabarruspartnership.org/wp-content/uploads/2025/10/child-seat-safety-check2.jpg
END:VEVENT
BEGIN:VEVENT
DTSTART;TZID=America/New_York:20260706T100000
DTEND;TZID=America/New_York:20260706T140000
DTSTAMP:20260420T044230
CREATED:20251020T183402Z
LAST-MODIFIED:20251119T190306Z
UID:10000039-1783332000-1783346400@cabarruspartnership.org
SUMMARY:Child Seat Safety Check
DESCRIPTION:Come down to Fire Station #3 in Concord and we will check your car seat to make sure it is installed correctly. This is a weekly event available every Monday from 10 AM – 2 PM EST – excluding holidays.
URL:https://cabarruspartnership.org/event/child-seat-safety-check/2026-07-06/
LOCATION:Concod Fire tation #3\, 100 Warren C Coleman Blvd\, Concord\, NC\, 28027\, United States
ATTACH;FMTTYPE=image/jpeg:https://cabarruspartnership.org/wp-content/uploads/2025/10/child-seat-safety-check.jpg
END:VEVENT
BEGIN:VEVENT
DTSTART;TZID=America/New_York:20260713T100000
DTEND;TZID=America/New_York:20260713T140000
DTSTAMP:20260420T044230
CREATED:20251020T183402Z
LAST-MODIFIED:20251119T190306Z
UID:10000040-1783936800-1783951200@cabarruspartnership.org
SUMMARY:Child Seat Safety Check
DESCRIPTION:Come down to Fire Station #3 in Concord and we will check your car seat to make sure it is installed correctly. This is a weekly event available every Monday from 10 AM – 2 PM EST – excluding holidays.
URL:https://cabarruspartnership.org/event/child-seat-safety-check/2026-07-13/
LOCATION:Concod Fire tation #3\, 100 Warren C Coleman Blvd\, Concord\, NC\, 28027\, United States
ATTACH;FMTTYPE=image/jpeg:https://cabarruspartnership.org/wp-content/uploads/2025/10/child-seat-safety-check.jpg
END:VEVENT
BEGIN:VEVENT
DTSTART;TZID=America/New_York:20260720T100000
DTEND;TZID=America/New_York:20260720T140000
DTSTAMP:20260420T044230
CREATED:20251020T183402Z
LAST-MODIFIED:20251119T190306Z
UID:10000041-1784541600-1784556000@cabarruspartnership.org
SUMMARY:Child Seat Safety Check
DESCRIPTION:Come down to Fire Station #3 in Concord and we will check your car seat to make sure it is installed correctly. This is a weekly event available every Monday from 10 AM – 2 PM EST – excluding holidays.
URL:https://cabarruspartnership.org/event/child-seat-safety-check/2026-07-20/
LOCATION:Concod Fire tation #3\, 100 Warren C Coleman Blvd\, Concord\, NC\, 28027\, United States
ATTACH;FMTTYPE=image/jpeg:https://cabarruspartnership.org/wp-content/uploads/2025/10/child-seat-safety-check.jpg
END:VEVENT
BEGIN:VEVENT
DTSTART;TZID=America/New_York:20260727T100000
DTEND;TZID=America/New_York:20260727T140000
DTSTAMP:20260420T044230
CREATED:20251020T183402Z
LAST-MODIFIED:20251119T190306Z
UID:10000042-1785146400-1785160800@cabarruspartnership.org
SUMMARY:Child Seat Safety Check
DESCRIPTION:Come down to Fire Station #3 in Concord and we will check your car seat to make sure it is installed correctly. This is a weekly event available every Monday from 10 AM – 2 PM EST – excluding holidays.
URL:https://cabarruspartnership.org/event/child-seat-safety-check/2026-07-27/
LOCATION:Concod Fire tation #3\, 100 Warren C Coleman Blvd\, Concord\, NC\, 28027\, United States
ATTACH;FMTTYPE=image/jpeg:https://cabarruspartnership.org/wp-content/uploads/2025/10/child-seat-safety-check.jpg
END:VEVENT
BEGIN:VEVENT
DTSTART;TZID=America/New_York:20260803T100000
DTEND;TZID=America/New_York:20260803T140000
DTSTAMP:20260420T044230
CREATED:20251020T183402Z
LAST-MODIFIED:20251119T190306Z
UID:10000043-1785751200-1785765600@cabarruspartnership.org
SUMMARY:Child Seat Safety Check
DESCRIPTION:Come down to Fire Station #3 in Concord and we will check your car seat to make sure it is installed correctly. This is a weekly event available every Monday from 10 AM – 2 PM EST – excluding holidays.
URL:https://cabarruspartnership.org/event/child-seat-safety-check/2026-08-03/
LOCATION:Concod Fire tation #3\, 100 Warren C Coleman Blvd\, Concord\, NC\, 28027\, United States
ATTACH;FMTTYPE=image/jpeg:https://cabarruspartnership.org/wp-content/uploads/2025/10/child-seat-safety-check.jpg
END:VEVENT
BEGIN:VEVENT
DTSTART;TZID=America/New_York:20260805T100000
DTEND;TZID=America/New_York:20260805T130000
DTSTAMP:20260420T044230
CREATED:20251020T184340Z
LAST-MODIFIED:20251119T190446Z
UID:10000333-1785924000-1785934800@cabarruspartnership.org
SUMMARY:Child Seat Safety Check
DESCRIPTION:Come down behind the Cabarrus County Sheriff’s Office in Concord (Use the Corban Ave SE driveway Across from McCachern Blvd SE)\, and we will check your car seat to ensure it is installed correctly. This event is available every first Wednesday from 10 AM – 1 PM EST – excluding holidays. \nYou must bring the following : \n\nValid Driver’s License or State Issued ID\nCitation You Were Issued\nAppropriate Safety Seat and Involved Child\nVehicle with Current Registration\n\nIn order to qualify for the child passenger seat diversion program your vehicle and child passenger seat must be checked at one of the locations above at least one week prior to your court date. No Exceptions. \nFor information on selecting the right seat for your child visit buckleupnc.org
URL:https://cabarruspartnership.org/event/child-seat-safety-check-2/2026-08-05/
LOCATION:Behind the Cabarrus County Sheriff’s Office\, 30 Corban Ave SE\, Concord\, NC\, 28025\, United States
ATTACH;FMTTYPE=image/jpeg:https://cabarruspartnership.org/wp-content/uploads/2025/10/child-seat-safety-check2.jpg
END:VEVENT
BEGIN:VEVENT
DTSTART;TZID=America/New_York:20260810T100000
DTEND;TZID=America/New_York:20260810T140000
DTSTAMP:20260420T044230
CREATED:20251020T183402Z
LAST-MODIFIED:20251119T190306Z
UID:10000044-1786356000-1786370400@cabarruspartnership.org
SUMMARY:Child Seat Safety Check
DESCRIPTION:Come down to Fire Station #3 in Concord and we will check your car seat to make sure it is installed correctly. This is a weekly event available every Monday from 10 AM – 2 PM EST – excluding holidays.
URL:https://cabarruspartnership.org/event/child-seat-safety-check/2026-08-10/
LOCATION:Concod Fire tation #3\, 100 Warren C Coleman Blvd\, Concord\, NC\, 28027\, United States
ATTACH;FMTTYPE=image/jpeg:https://cabarruspartnership.org/wp-content/uploads/2025/10/child-seat-safety-check.jpg
END:VEVENT
BEGIN:VEVENT
DTSTART;TZID=America/New_York:20260817T100000
DTEND;TZID=America/New_York:20260817T140000
DTSTAMP:20260420T044230
CREATED:20251020T183402Z
LAST-MODIFIED:20251119T190306Z
UID:10000045-1786960800-1786975200@cabarruspartnership.org
SUMMARY:Child Seat Safety Check
DESCRIPTION:Come down to Fire Station #3 in Concord and we will check your car seat to make sure it is installed correctly. This is a weekly event available every Monday from 10 AM – 2 PM EST – excluding holidays.
URL:https://cabarruspartnership.org/event/child-seat-safety-check/2026-08-17/
LOCATION:Concod Fire tation #3\, 100 Warren C Coleman Blvd\, Concord\, NC\, 28027\, United States
ATTACH;FMTTYPE=image/jpeg:https://cabarruspartnership.org/wp-content/uploads/2025/10/child-seat-safety-check.jpg
END:VEVENT
BEGIN:VEVENT
DTSTART;TZID=America/New_York:20260824T100000
DTEND;TZID=America/New_York:20260824T140000
DTSTAMP:20260420T044230
CREATED:20251020T183402Z
LAST-MODIFIED:20251119T190306Z
UID:10000046-1787565600-1787580000@cabarruspartnership.org
SUMMARY:Child Seat Safety Check
DESCRIPTION:Come down to Fire Station #3 in Concord and we will check your car seat to make sure it is installed correctly. This is a weekly event available every Monday from 10 AM – 2 PM EST – excluding holidays.
URL:https://cabarruspartnership.org/event/child-seat-safety-check/2026-08-24/
LOCATION:Concod Fire tation #3\, 100 Warren C Coleman Blvd\, Concord\, NC\, 28027\, United States
ATTACH;FMTTYPE=image/jpeg:https://cabarruspartnership.org/wp-content/uploads/2025/10/child-seat-safety-check.jpg
END:VEVENT
BEGIN:VEVENT
DTSTART;TZID=America/New_York:20260831T100000
DTEND;TZID=America/New_York:20260831T140000
DTSTAMP:20260420T044230
CREATED:20251020T183402Z
LAST-MODIFIED:20251119T190306Z
UID:10000047-1788170400-1788184800@cabarruspartnership.org
SUMMARY:Child Seat Safety Check
DESCRIPTION:Come down to Fire Station #3 in Concord and we will check your car seat to make sure it is installed correctly. This is a weekly event available every Monday from 10 AM – 2 PM EST – excluding holidays.
URL:https://cabarruspartnership.org/event/child-seat-safety-check/2026-08-31/
LOCATION:Concod Fire tation #3\, 100 Warren C Coleman Blvd\, Concord\, NC\, 28027\, United States
ATTACH;FMTTYPE=image/jpeg:https://cabarruspartnership.org/wp-content/uploads/2025/10/child-seat-safety-check.jpg
END:VEVENT
BEGIN:VEVENT
DTSTART;TZID=America/New_York:20260902T100000
DTEND;TZID=America/New_York:20260902T130000
DTSTAMP:20260420T044230
CREATED:20251020T184340Z
LAST-MODIFIED:20251119T190446Z
UID:10000334-1788343200-1788354000@cabarruspartnership.org
SUMMARY:Child Seat Safety Check
DESCRIPTION:Come down behind the Cabarrus County Sheriff’s Office in Concord (Use the Corban Ave SE driveway Across from McCachern Blvd SE)\, and we will check your car seat to ensure it is installed correctly. This event is available every first Wednesday from 10 AM – 1 PM EST – excluding holidays. \nYou must bring the following : \n\nValid Driver’s License or State Issued ID\nCitation You Were Issued\nAppropriate Safety Seat and Involved Child\nVehicle with Current Registration\n\nIn order to qualify for the child passenger seat diversion program your vehicle and child passenger seat must be checked at one of the locations above at least one week prior to your court date. No Exceptions. \nFor information on selecting the right seat for your child visit buckleupnc.org
URL:https://cabarruspartnership.org/event/child-seat-safety-check-2/2026-09-02/
LOCATION:Behind the Cabarrus County Sheriff’s Office\, 30 Corban Ave SE\, Concord\, NC\, 28025\, United States
ATTACH;FMTTYPE=image/jpeg:https://cabarruspartnership.org/wp-content/uploads/2025/10/child-seat-safety-check2.jpg
END:VEVENT
BEGIN:VEVENT
DTSTART;TZID=America/New_York:20260907T100000
DTEND;TZID=America/New_York:20260907T140000
DTSTAMP:20260420T044230
CREATED:20251020T183402Z
LAST-MODIFIED:20251119T190306Z
UID:10000048-1788775200-1788789600@cabarruspartnership.org
SUMMARY:Child Seat Safety Check
DESCRIPTION:Come down to Fire Station #3 in Concord and we will check your car seat to make sure it is installed correctly. This is a weekly event available every Monday from 10 AM – 2 PM EST – excluding holidays.
URL:https://cabarruspartnership.org/event/child-seat-safety-check/2026-09-07/
LOCATION:Concod Fire tation #3\, 100 Warren C Coleman Blvd\, Concord\, NC\, 28027\, United States
ATTACH;FMTTYPE=image/jpeg:https://cabarruspartnership.org/wp-content/uploads/2025/10/child-seat-safety-check.jpg
END:VEVENT
BEGIN:VEVENT
DTSTART;TZID=America/New_York:20260914T100000
DTEND;TZID=America/New_York:20260914T140000
DTSTAMP:20260420T044230
CREATED:20251020T183402Z
LAST-MODIFIED:20251119T190306Z
UID:10000049-1789380000-1789394400@cabarruspartnership.org
SUMMARY:Child Seat Safety Check
DESCRIPTION:Come down to Fire Station #3 in Concord and we will check your car seat to make sure it is installed correctly. This is a weekly event available every Monday from 10 AM – 2 PM EST – excluding holidays.
URL:https://cabarruspartnership.org/event/child-seat-safety-check/2026-09-14/
LOCATION:Concod Fire tation #3\, 100 Warren C Coleman Blvd\, Concord\, NC\, 28027\, United States
ATTACH;FMTTYPE=image/jpeg:https://cabarruspartnership.org/wp-content/uploads/2025/10/child-seat-safety-check.jpg
END:VEVENT
BEGIN:VEVENT
DTSTART;TZID=America/New_York:20260921T100000
DTEND;TZID=America/New_York:20260921T140000
DTSTAMP:20260420T044230
CREATED:20251020T183402Z
LAST-MODIFIED:20251119T190306Z
UID:10000050-1789984800-1789999200@cabarruspartnership.org
SUMMARY:Child Seat Safety Check
DESCRIPTION:Come down to Fire Station #3 in Concord and we will check your car seat to make sure it is installed correctly. This is a weekly event available every Monday from 10 AM – 2 PM EST – excluding holidays.
URL:https://cabarruspartnership.org/event/child-seat-safety-check/2026-09-21/
LOCATION:Concod Fire tation #3\, 100 Warren C Coleman Blvd\, Concord\, NC\, 28027\, United States
ATTACH;FMTTYPE=image/jpeg:https://cabarruspartnership.org/wp-content/uploads/2025/10/child-seat-safety-check.jpg
END:VEVENT
BEGIN:VEVENT
DTSTART;TZID=America/New_York:20260928T100000
DTEND;TZID=America/New_York:20260928T140000
DTSTAMP:20260420T044230
CREATED:20251020T183402Z
LAST-MODIFIED:20251119T190306Z
UID:10000051-1790589600-1790604000@cabarruspartnership.org
SUMMARY:Child Seat Safety Check
DESCRIPTION:Come down to Fire Station #3 in Concord and we will check your car seat to make sure it is installed correctly. This is a weekly event available every Monday from 10 AM – 2 PM EST – excluding holidays.
URL:https://cabarruspartnership.org/event/child-seat-safety-check/2026-09-28/
LOCATION:Concod Fire tation #3\, 100 Warren C Coleman Blvd\, Concord\, NC\, 28027\, United States
ATTACH;FMTTYPE=image/jpeg:https://cabarruspartnership.org/wp-content/uploads/2025/10/child-seat-safety-check.jpg
END:VEVENT
BEGIN:VEVENT
DTSTART;TZID=America/New_York:20261005T100000
DTEND;TZID=America/New_York:20261005T140000
DTSTAMP:20260420T044230
CREATED:20251020T183402Z
LAST-MODIFIED:20251119T190306Z
UID:10000052-1791194400-1791208800@cabarruspartnership.org
SUMMARY:Child Seat Safety Check
DESCRIPTION:Come down to Fire Station #3 in Concord and we will check your car seat to make sure it is installed correctly. This is a weekly event available every Monday from 10 AM – 2 PM EST – excluding holidays.
URL:https://cabarruspartnership.org/event/child-seat-safety-check/2026-10-05/
LOCATION:Concod Fire tation #3\, 100 Warren C Coleman Blvd\, Concord\, NC\, 28027\, United States
ATTACH;FMTTYPE=image/jpeg:https://cabarruspartnership.org/wp-content/uploads/2025/10/child-seat-safety-check.jpg
END:VEVENT
END:VCALENDAR